BEGIN:VCALENDAR
VERSION:2.0
PRODID:-//Shipwright Harbor Marina - ECPv6.15.20//NONSGML v1.0//EN
CALSCALE:GREGORIAN
METHOD:PUBLISH
X-WR-CALNAME:Shipwright Harbor Marina
X-ORIGINAL-URL:https://www.shipwrightharbor.com
X-WR-CALDESC:Events for Shipwright Harbor Marina
REFRESH-INTERVAL;VALUE=DURATION:PT1H
X-Robots-Tag:noindex
X-PUBLISHED-TTL:PT1H
BEGIN:VTIMEZONE
TZID:America/Halifax
BEGIN:DAYLIGHT
TZOFFSETFROM:-0400
TZOFFSETTO:-0300
TZNAME:ADT
DTSTART:20170312T060000
END:DAYLIGHT
BEGIN:STANDARD
TZOFFSETFROM:-0300
TZOFFSETTO:-0400
TZNAME:AST
DTSTART:20171105T050000
END:STANDARD
BEGIN:DAYLIGHT
TZOFFSETFROM:-0400
TZOFFSETTO:-0300
TZNAME:ADT
DTSTART:20180311T060000
END:DAYLIGHT
BEGIN:STANDARD
TZOFFSETFROM:-0300
TZOFFSETTO:-0400
TZNAME:AST
DTSTART:20181104T050000
END:STANDARD
BEGIN:DAYLIGHT
TZOFFSETFROM:-0400
TZOFFSETTO:-0300
TZNAME:ADT
DTSTART:20190310T060000
END:DAYLIGHT
BEGIN:STANDARD
TZOFFSETFROM:-0300
TZOFFSETTO:-0400
TZNAME:AST
DTSTART:20191103T050000
END:STANDARD
BEGIN:DAYLIGHT
TZOFFSETFROM:-0400
TZOFFSETTO:-0300
TZNAME:ADT
DTSTART:20200308T060000
END:DAYLIGHT
BEGIN:STANDARD
TZOFFSETFROM:-0300
TZOFFSETTO:-0400
TZNAME:AST
DTSTART:20201101T050000
END:STANDARD
BEGIN:DAYLIGHT
TZOFFSETFROM:-0400
TZOFFSETTO:-0300
TZNAME:ADT
DTSTART:20210314T060000
END:DAYLIGHT
BEGIN:STANDARD
TZOFFSETFROM:-0300
TZOFFSETTO:-0400
TZNAME:AST
DTSTART:20211107T050000
END:STANDARD
END:VTIMEZONE
BEGIN:VEVENT
DTSTART;TZID=America/Halifax:20201017T080000
DTEND;TZID=America/Halifax:20201017T170000
DTSTAMP:20260424T165741
CREATED:20200302T201645Z
LAST-MODIFIED:20200302T201645Z
UID:2659-1602921600-1602954000@www.shipwrightharbor.com
SUMMARY:Oktoberfest Pot Luck
DESCRIPTION:The Oktoberfest was a huge hit last year. Beer\, wine and live music by our very own South Creek Boys will be provided. Dinner is potluck style so bring something to share. Feel free to dress in your favorite lederhosen and dirndls or\, just come as you are. More information and RSVP to follow.
URL:https://www.shipwrightharbor.com/event/oktoberfest-pot-luck/
LOCATION:The Point at Shipwright Harbor Marina
CATEGORIES:Slipholder Dinner
ORGANIZER;CN="Shipwright Harbor Marina":MAILTO:info@swhmarina.com
END:VEVENT
BEGIN:VEVENT
DTSTART;TZID=America/Halifax:20200926T170000
DTEND;TZID=America/Halifax:20200926T200000
DTSTAMP:20260424T165741
CREATED:20200302T195537Z
LAST-MODIFIED:20200302T195537Z
UID:2652-1601139600-1601150400@www.shipwrightharbor.com
SUMMARY:Seafood Festival
DESCRIPTION:Slipholders come enjoy low country boil\, mussels and topped off with crabs! Feel free to bring a side dish to share. Live music by our very own South Creek Boys. More information on the event and RSVP to follow.
URL:https://www.shipwrightharbor.com/event/seafood-festival/
LOCATION:The Point at Shipwright Harbor Marina
CATEGORIES:Slipholder Dinner
ORGANIZER;CN="Shipwright Harbor Marina":MAILTO:info@swhmarina.com
END:VEVENT
BEGIN:VEVENT
DTSTART;TZID=America/Halifax:20200829T170000
DTEND;TZID=America/Halifax:20200829T200000
DTSTAMP:20260424T165741
CREATED:20200302T195105Z
LAST-MODIFIED:20200302T195105Z
UID:2649-1598720400-1598731200@www.shipwrightharbor.com
SUMMARY:Baby Back Ribs Party
DESCRIPTION:New to Shipwright this season- Baby Back Ribs Party. More information and RSVP to follow.
URL:https://www.shipwrightharbor.com/event/baby-back-ribs-party/
LOCATION:The Point at Shipwright Harbor Marina
CATEGORIES:Slipholder Dinner
ORGANIZER;CN="Shipwright Harbor Marina":MAILTO:info@swhmarina.com
END:VEVENT
BEGIN:VEVENT
DTSTART;TZID=America/Halifax:20200815T170000
DTEND;TZID=America/Halifax:20200815T200000
DTSTAMP:20260424T165741
CREATED:20200302T194932Z
LAST-MODIFIED:20200302T194932Z
UID:2646-1597510800-1597521600@www.shipwrightharbor.com
SUMMARY:Luau Party with Roast Beef
DESCRIPTION:Roast beef\, fries\, beer and wine will be supplied (food will be available from 5-7 pm). Please bring a side dish or dessert to share! Wear your best luau shirt to be entered into the contest. More information and RSVP to follow.
URL:https://www.shipwrightharbor.com/event/luau-party-with-roast-beef/
LOCATION:The Point at Shipwright Harbor Marina
CATEGORIES:Slipholder Dinner
ORGANIZER;CN="Shipwright Harbor Marina":MAILTO:info@swhmarina.com
END:VEVENT
BEGIN:VEVENT
DTSTART;TZID=America/Halifax:20200718T170000
DTEND;TZID=America/Halifax:20200718T200000
DTSTAMP:20260424T165741
CREATED:20200302T194401Z
LAST-MODIFIED:20200302T194401Z
UID:2643-1595091600-1595102400@www.shipwrightharbor.com
SUMMARY:Beer Butt Chicken Party
DESCRIPTION:Slipholders join us at The Point for a dinner featuring Vic’s famous beer butt chicken. Feel free to bring your favorite side dish to share. More information and RSVP to follow.
URL:https://www.shipwrightharbor.com/event/beer-butt-chicken-party/
LOCATION:The Point at Shipwright Harbor Marina
CATEGORIES:Slipholder Dinner
ORGANIZER;CN="Shipwright Harbor Marina":MAILTO:info@swhmarina.com
END:VEVENT
BEGIN:VEVENT
DTSTART;TZID=America/Halifax:20200613T170000
DTEND;TZID=America/Halifax:20200613T200000
DTSTAMP:20260424T165741
CREATED:20200302T183201Z
LAST-MODIFIED:20200302T183201Z
UID:2627-1592067600-1592078400@www.shipwrightharbor.com
SUMMARY:Pirate Party and Pig Roast
DESCRIPTION:Everyone’s favorite event the Pig Roast will be returning\, but this year in pirate theme. Shipwright will be providing the pig\, sides\, drinks and live music by the South Creek Boys. Feel free to bring a dish! \nMore information and RSVP to follow.
URL:https://www.shipwrightharbor.com/event/pirate-party-and-pig-roast/
LOCATION:The Point at Shipwright Harbor Marina
CATEGORIES:Slipholder Dinner
ORGANIZER;CN="Shipwright Harbor Marina":MAILTO:info@swhmarina.com
END:VEVENT
BEGIN:VEVENT
DTSTART;TZID=America/Halifax:20200523T170000
DTEND;TZID=America/Halifax:20200523T200000
DTSTAMP:20260424T165741
CREATED:20200302T174927Z
LAST-MODIFIED:20200302T174927Z
UID:2619-1590253200-1590264000@www.shipwrightharbor.com
SUMMARY:Slipholder Accomplishment Show
DESCRIPTION:Slipholders this event is for you to showcase your talent and skills. Hot dogs\, hamburgers and drinks will be provided by Shipwright. We will also be revealing our custom art piece created by our very own slipholder Mark Schwenk. More information about the event to follow.
URL:https://www.shipwrightharbor.com/event/slipholder-accomplishment-show/
LOCATION:The Breezeway at Shipwright Harbor\, 6047 Herring Bay Road\, Deale\, MD\, 20751\, United States
CATEGORIES:Slipholder Dinner
ORGANIZER;CN="Shipwright Harbor Marina":MAILTO:info@swhmarina.com
END:VEVENT
BEGIN:VEVENT
DTSTART;TZID=America/Halifax:20200516T170000
DTEND;TZID=America/Halifax:20200516T200000
DTSTAMP:20260424T165741
CREATED:20200302T172802Z
LAST-MODIFIED:20200302T172802Z
UID:2609-1589648400-1589659200@www.shipwrightharbor.com
SUMMARY:Military Appreciation Day
DESCRIPTION:Join us to honor our active and retired military slipholders. Burgers\, hot dogs and drinks will be provided.
URL:https://www.shipwrightharbor.com/event/military-appreciation-day/
CATEGORIES:Slipholder Dinner
ORGANIZER;CN="Shipwright Harbor Marina":MAILTO:info@swhmarina.com
END:VEVENT
BEGIN:VEVENT
DTSTART;TZID=America/Halifax:20191019T170000
DTEND;TZID=America/Halifax:20191019T200000
DTSTAMP:20260424T165741
CREATED:20190925T201925Z
LAST-MODIFIED:20190925T201925Z
UID:2254-1571504400-1571515200@www.shipwrightharbor.com
SUMMARY:Oktoberfest
DESCRIPTION:Meet us at The Point for a slipholder potluck dinner. Live music will be provided by the South Creek Boys. Please bring a dish to side.
URL:https://www.shipwrightharbor.com/event/oktoberfest/
CATEGORIES:Slipholder Dinner
END:VEVENT
BEGIN:VEVENT
DTSTART;TZID=America/Halifax:20190921T170000
DTEND;TZID=America/Halifax:20190921T200000
DTSTAMP:20260424T165741
CREATED:20190617T164017Z
LAST-MODIFIED:20190617T164017Z
UID:1960-1569085200-1569096000@www.shipwrightharbor.com
SUMMARY:Seafood Fest
DESCRIPTION:Meet us at The Point for a variety of seafood dishes including steamed Bay crabs! Live music will be provided by the South Creek Boys. Feel free to bring a dish to side. \nRSVP to Linda at the below email
URL:https://www.shipwrightharbor.com/event/seafood-fest/
LOCATION:The Point at Shipwright Harbor Marina
CATEGORIES:Slipholder Dinner
ORGANIZER;CN="Shipwright Harbor Marina":MAILTO:info@swhmarina.com
END:VEVENT
BEGIN:VEVENT
DTSTART;TZID=America/Halifax:20190727T170000
DTEND;TZID=America/Halifax:20190727T200000
DTSTAMP:20260424T165741
CREATED:20190617T160924Z
LAST-MODIFIED:20190718T144049Z
UID:1946-1564246800-1564257600@www.shipwrightharbor.com
SUMMARY:Vic's Famous Beer Butt Chicken
DESCRIPTION:Join us for a slipholder dinner featuring Vic’s famous beer butt chicken. Feel free to bring your favorite dish to share. \nYard games will be available at the pool and music by Sh’Boom! RSVP to Linda at the email below.
URL:https://www.shipwrightharbor.com/event/vics-famous-beer-butt-chicken/
CATEGORIES:Slipholder Dinner
ORGANIZER;CN="Shipwright Harbor Marina":MAILTO:info@swhmarina.com
END:VEVENT
BEGIN:VEVENT
DTSTART;TZID=America/Halifax:20180922T170000
DTEND;TZID=America/Halifax:20180922T210000
DTSTAMP:20260424T165741
CREATED:20180222T223745Z
LAST-MODIFIED:20180920T165046Z
UID:1310-1537635600-1537650000@www.shipwrightharbor.com
SUMMARY:Seafood Fest
DESCRIPTION:Meet us at The Point for a variety of seafood dishes including steamed Bay crabs! Accompanied by the South Creek Boys (and hopefully some crisp weather) this will be a feast for the season! Feel free to bring a dish. Rain date Saturday\, September 29th. \nRSVP to Linda at the email below by September 15th.
URL:https://www.shipwrightharbor.com/event/crab-feast/
CATEGORIES:Slipholder Dinner
ATTACH;FMTTYPE=image/jpeg:https://www.shipwrightharbor.com/wp-content/uploads/2018/02/crabfeast.jpg
ORGANIZER;CN="Shipwright Harbor Marina":MAILTO:info@swhmarina.com
END:VEVENT
BEGIN:VEVENT
DTSTART;TZID=America/Halifax:20180818T170000
DTEND;TZID=America/Halifax:20180818T200000
DTSTAMP:20260424T165741
CREATED:20180222T223604Z
LAST-MODIFIED:20180807T184606Z
UID:1307-1534611600-1534622400@www.shipwrightharbor.com
SUMMARY:Pool Party!
DESCRIPTION:Meet us at the pool for roasts by Vic\, pool games officiated by Dave\, and music by Sh’Boom! Feel free to bring a dish! \nRSVP to Linda at the email below by August 11th. \n 
URL:https://www.shipwrightharbor.com/event/beer-butt-chicken/
CATEGORIES:Slipholder Dinner
ATTACH;FMTTYPE=image/jpeg:https://www.shipwrightharbor.com/wp-content/uploads/2018/02/34343823_10214783452293446_6793569326516404224_o.jpg
ORGANIZER;CN="Shipwright Harbor Marina":MAILTO:info@swhmarina.com
END:VEVENT
BEGIN:VEVENT
DTSTART;TZID=America/Halifax:20180721T170000
DTEND;TZID=America/Halifax:20180721T200000
DTSTAMP:20260424T165741
CREATED:20180222T223418Z
LAST-MODIFIED:20180720T160700Z
UID:1304-1532192400-1532203200@www.shipwrightharbor.com
SUMMARY:Pool Party
DESCRIPTION:EVENT HAS BEEN CANCELLED – Rain Date TBD \n  \nMeet at The Pool for roasts and french fries while enjoying the music of Sh’Boom! Feel free to bring a dish! \nRSVP to Linda at the email below by July 14th.
URL:https://www.shipwrightharbor.com/event/sea-shanties/
CATEGORIES:Slipholder Dinner
ATTACH;FMTTYPE=image/jpeg:https://www.shipwrightharbor.com/wp-content/uploads/2018/02/image003.jpg
ORGANIZER;CN="Shipwright Harbor Marina":MAILTO:info@swhmarina.com
END:VEVENT
BEGIN:VEVENT
DTSTART;TZID=America/Halifax:20180630T180000
DTEND;TZID=America/Halifax:20180630T223000
DTSTAMP:20260424T165741
CREATED:20180222T223240Z
LAST-MODIFIED:20180628T205411Z
UID:1299-1530381600-1530397800@www.shipwrightharbor.com
SUMMARY:Aquapalooza & Chesapeake Beach Fireworks
DESCRIPTION:Join us for a fun-filled early celebration of the 4th of July. Enjoy classic hamburgers and hotdogs and live music\, then make your way out to the Bay for the Chesapeake Beach Fireworks. Rain date is July 3rd during Herrington Harbour South’s firework celebration. More details to come! \nRSVP to Linda at the email below by June 23rd.
URL:https://www.shipwrightharbor.com/event/aquapalooza-chesapeake-beach-fireworks/
CATEGORIES:Slipholder Dinner
ATTACH;FMTTYPE=image/jpeg:https://www.shipwrightharbor.com/wp-content/uploads/2018/02/222483190-fourth-of-july-free-wallpaper.jpg
ORGANIZER;CN="Shipwright Harbor Marina":MAILTO:info@swhmarina.com
END:VEVENT
BEGIN:VEVENT
DTSTART;TZID=America/Halifax:20180616T170000
DTEND;TZID=America/Halifax:20180616T200000
DTSTAMP:20260424T165741
CREATED:20180222T222446Z
LAST-MODIFIED:20180222T224355Z
UID:1296-1529168400-1529179200@www.shipwrightharbor.com
SUMMARY:Roast Pig Luau
DESCRIPTION:Meet us at The Point for a Luau complete with a roast pig and music by the South Creek Boys. Feel free to bring a dish! \nRSVP to Linda at the email below by June 9th.
URL:https://www.shipwrightharbor.com/event/roast-pig-luau/
CATEGORIES:Slipholder Dinner
ATTACH;FMTTYPE=image/jpeg:https://www.shipwrightharbor.com/wp-content/uploads/2018/02/South-Creek-Boys.jpg
ORGANIZER;CN="Shipwright Harbor Marina":MAILTO:info@swhmarina.com
END:VEVENT
END:VCALENDAR